BEGIN:VCALENDAR
VERSION:2.0
PRODID:-//hacksw/handcal//NONSGML v1.0//EN
CALSCALE:GREGORIAN
BEGIN:VEVENT
LOCATION:Brussels\, Belgium
SUMMARY:Vision 2050 | Decarbonising District Energy For Our Cities
DESCRIPTION:Vision 2050 | Decarbonising District Energy For Our Cities
DTSTART:20191001T000000
DTEND:20191001T000000
URL;VALUE=URI:https://energy-cities.eu/event/vision-2050-decarbonising-district-energy-for-our-cities/
DTSTAMP:now
UID:6597680fecf5f
END:VEVENT
END:VCALENDAR