BEGIN:VCALENDAR
VERSION:2.0
PRODID:-//hacksw/handcal//NONSGML v1.0//EN
CALSCALE:GREGORIAN
BEGIN:VEVENT
LOCATION:Bruxelles\, Belgique
SUMMARY:17th European Week of Regions and Cities
DESCRIPTION:17th European Week of Regions and Cities
DTSTART:20191007T000000
DTEND:20191010T000000
URL;VALUE=URI:https://energy-cities.eu/fr/evenement/17th-european-week-of-regions-and-cities/
DTSTAMP:now
UID:659770cb2875e
END:VEVENT
END:VCALENDAR