BEGIN:VCALENDAR
VERSION:2.0
PRODID:-//hacksw/handcal//NONSGML v1.0//EN
CALSCALE:GREGORIAN
BEGIN:VEVENT
LOCATION:Bruxelles\, Belgique
SUMMARY:Accelerating integrated energy systems for a climate-neutral EU
DESCRIPTION:Accelerating integrated energy systems for a climate-neutral EU
DTSTART:20191009T000000
DTEND:20191009T000000
URL;VALUE=URI:https://energy-cities.eu/fr/evenement/accelerating-integrated-energy-systems-for-a-climate-neutral-eu/
DTSTAMP:now
UID:65976fe5efce1
END:VEVENT
END:VCALENDAR