BEGIN:VCALENDAR
VERSION:2.0
PRODID:-//hacksw/handcal//NONSGML v1.0//EN
CALSCALE:GREGORIAN
BEGIN:VEVENT
LOCATION:Bruxelles\, Belgique
SUMMARY:Conférence annuelle de Polis
DESCRIPTION:Conférence annuelle de Polis
DTSTART:20191127T000000
DTEND:20191128T000000
URL;VALUE=URI:https://energy-cities.eu/fr/evenement/polis-annual-conference/
DTSTAMP:now
UID:659776cb9407e
END:VEVENT
END:VCALENDAR