BEGIN:VCALENDAR
VERSION:2.0
PRODID:-//hacksw/handcal//NONSGML v1.0//EN
CALSCALE:GREGORIAN
BEGIN:VEVENT
LOCATION:Bruxelles\, Belgique
SUMMARY:Conférence et Voyage d&rsquo\;étude &#8211\; « Financement de la rénovation énergétique des bâtiments publics »
DESCRIPTION:Conférence et Voyage d&rsquo\;étude &#8211\; « Financement de la rénovation énergétique des bâtiments publics »
DTSTART:20191009T000000
DTEND:20191010T000000
URL;VALUE=URI:https://energy-cities.eu/fr/evenement/conference-et-voyage-detude-financement-de-la-renovation-energetique-des-batiments-publics/
DTSTAMP:now
UID:659766ad08f33
END:VEVENT
END:VCALENDAR