BEGIN:VCALENDAR
VERSION:2.0
PRODID:-//hacksw/handcal//NONSGML v1.0//EN
CALSCALE:GREGORIAN
BEGIN:VEVENT
LOCATION:Bruxelles\, Belgique
SUMMARY:District heating and cooling: cities going circular for a carbon neutral Europe
DESCRIPTION:District heating and cooling: cities going circular for a carbon neutral Europe
DTSTART:20191010T113000
DTEND:20191010T130000
URL;VALUE=URI:https://energy-cities.eu/fr/evenement/district-heating-and-cooling-cities-going-circular-for-a-carbon-neutral-europe/
DTSTAMP:now
UID:6597708fdc190
END:VEVENT
END:VCALENDAR