BEGIN:VCALENDAR
VERSION:2.0
PRODID:-//hacksw/handcal//NONSGML v1.0//EN
CALSCALE:GREGORIAN
BEGIN:VEVENT
LOCATION:Bruxelles\, Belgique
SUMMARY:EFEX 2019: discover   engage   act
DESCRIPTION:EFEX 2019: discover   engage   act
DTSTART:20190924T090000
DTEND:20190924T170000
URL;VALUE=URI:https://energy-cities.eu/fr/evenement/efex-2019-discover-engage-act/
DTSTAMP:now
UID:65976d9aef91f
END:VEVENT
END:VCALENDAR