BEGIN:VCALENDAR
VERSION:2.0
PRODID:-//hacksw/handcal//NONSGML v1.0//EN
CALSCALE:GREGORIAN
BEGIN:VEVENT
LOCATION:Bruxelles\, Belgique
SUMMARY:Efficient Buildings in the Mediterranean area &#8211\; MEDNICE Annual Congress
DESCRIPTION:Efficient Buildings in the Mediterranean area &#8211\; MEDNICE Annual Congress
DTSTART:20191010T000000
DTEND:20191010T000000
URL;VALUE=URI:https://energy-cities.eu/fr/evenement/efficient-buildings-in-the-mediterranean-area-mednice-annual-congress/
DTSTAMP:now
UID:659765f58f4a2
END:VEVENT
END:VCALENDAR