BEGIN:VCALENDAR
VERSION:2.0
PRODID:-//hacksw/handcal//NONSGML v1.0//EN
CALSCALE:GREGORIAN
BEGIN:VEVENT
LOCATION:Bruxelles\, Belgique
SUMMARY:Greening densely populated areas: strategy and funding
DESCRIPTION:Greening densely populated areas: strategy and funding
DTSTART:20191008T100000
DTEND:20191008T120000
URL;VALUE=URI:https://energy-cities.eu/fr/evenement/greening-densely-populated-areas-strategy-and-funding/
DTSTAMP:now
UID:65976394d2536
END:VEVENT
END:VCALENDAR