BEGIN:VCALENDAR
VERSION:2.0
PRODID:-//hacksw/handcal//NONSGML v1.0//EN
CALSCALE:GREGORIAN
BEGIN:VEVENT
LOCATION:Bruxelles\, Belgique
SUMMARY:Turning your Sustainable Energy and Climate Action Plan into a strategic investment plan
DESCRIPTION:Turning your Sustainable Energy and Climate Action Plan into a strategic investment plan
DTSTART:20191009T090000
DTEND:20191009T180000
URL;VALUE=URI:https://energy-cities.eu/fr/evenement/turning-your-sustainable-energy-and-climate-action-plan-into-a-strategic-investment-plan/
DTSTAMP:now
UID:659766182be56
END:VEVENT
END:VCALENDAR