BEGIN:VCALENDAR
VERSION:2.0
PRODID:-//hacksw/handcal//NONSGML v1.0//EN
CALSCALE:GREGORIAN
BEGIN:VEVENT
LOCATION:Bruxelles\, Belgium
SUMMARY:Semaine européenne de la mobilité
DESCRIPTION:Semaine européenne de la mobilité
DTSTART:20190916T000000
DTEND:20190922T000000
URL;VALUE=URI:https://energy-cities.eu/fr/evenement/european-mobility-week/
DTSTAMP:now
UID:65976dfd5494a
END:VEVENT
END:VCALENDAR