BEGIN:VCALENDAR
VERSION:2.0
PRODID:-//hacksw/handcal//NONSGML v1.0//EN
CALSCALE:GREGORIAN
BEGIN:VEVENT
LOCATION:Bruxelles\, Belgium
SUMMARY:Shifting Economy Week Brussels
DESCRIPTION:Shifting Economy Week Brussels
DTSTART:20221118T080000
DTEND:20221124T170000
URL;VALUE=URI:https://energy-cities.eu/fr/evenement/shifting-economy-week-bruxelles/
DTSTAMP:now
UID:659777541f315
END:VEVENT
END:VCALENDAR