BEGIN:VCALENDAR
VERSION:2.0
PRODID:-//hacksw/handcal//NONSGML v1.0//EN
CALSCALE:GREGORIAN
BEGIN:VEVENT
LOCATION:Bruxelles\, Belgium
SUMMARY:Thermal energy systems of the future
DESCRIPTION:Thermal energy systems of the future
DTSTART:20191017T093000
DTEND:20191018T133000
URL;VALUE=URI:https://energy-cities.eu/fr/evenement/thermal-energy-systems-of-the-future-2/
DTSTAMP:now
UID:65976d3c04d88
END:VEVENT
END:VCALENDAR