BEGIN:VCALENDAR
VERSION:2.0
PRODID:-//hacksw/handcal//NONSGML v1.0//EN
CALSCALE:GREGORIAN
BEGIN:VEVENT
LOCATION:Bruxelles Environnement\, Avenue du Port 86C\, Brussels\, Belgium
SUMMARY:Le rôle des réseaux de chaleur en Région de Bruxelles-Capitale
DESCRIPTION:Le rôle des réseaux de chaleur en Région de Bruxelles-Capitale
DTSTART:20220321T090000
DTEND:20220321T183000
URL;VALUE=URI:https://energy-cities.eu/fr/evenement/le-role-des-reseaux-de-chaleur-en-region-de-bruxelles-capitale/
DTSTAMP:now
UID:65976b2c3d969
END:VEVENT
END:VCALENDAR