BEGIN:VCALENDAR
VERSION:2.0
PRODID:-//hacksw/handcal//NONSGML v1.0//EN
CALSCALE:GREGORIAN
BEGIN:VEVENT
LOCATION:Bucharest\, Romania
SUMMARY:Making the energy transition happen locally
DESCRIPTION:Making the energy transition happen locally
DTSTART:20190612T000000
DTEND:20190614T000000
URL;VALUE=URI:https://energy-cities.eu/event/making-the-energy-transition-happen-locally/
DTSTAMP:now
UID:65976aaee8d61
END:VEVENT
END:VCALENDAR