BEGIN:VCALENDAR
VERSION:2.0
PRODID:-//hacksw/handcal//NONSGML v1.0//EN
CALSCALE:GREGORIAN
BEGIN:VEVENT
LOCATION:Budapest\, Central European University Press\, Nádor Street\, Hungary
SUMMARY:Budapest Forum 2022 &#8211\; Building Sustainable Democracies
DESCRIPTION:Budapest Forum 2022 &#8211\; Building Sustainable Democracies
DTSTART:20220921T000000
DTEND:20220922T000000
URL;VALUE=URI:https://energy-cities.eu/event/budapest-forum-2022-building-sustainable-democracies/
DTSTAMP:now
UID:6597671484de6
END:VEVENT
END:VCALENDAR