BEGIN:VCALENDAR
VERSION:2.0
PRODID:-//hacksw/handcal//NONSGML v1.0//EN
CALSCALE:GREGORIAN
BEGIN:VEVENT
LOCATION:Calle de la Escuadra\, 11\, Madrid\, Spain
SUMMARY:LIFE PlanUp regional workshop: Achieving a low carbon pathway in Southern European countries through ambitious Energy and Climate Plans
DESCRIPTION:LIFE PlanUp regional workshop: Achieving a low carbon pathway in Southern European countries through ambitious Energy and Climate Plans
DTSTART:20191105T110000
DTEND:20191106T170000
URL;VALUE=URI:https://energy-cities.eu/event/life-planup-regional-workshop-achieving-a-low-carbon-pathway-in-southern-european-countries-through-ambitious-energy-and-climate-plans/
DTSTAMP:now
UID:65976c78b40a2
END:VEVENT
END:VCALENDAR