BEGIN:VCALENDAR
VERSION:2.0
PRODID:-//hacksw/handcal//NONSGML v1.0//EN
CALSCALE:GREGORIAN
BEGIN:VEVENT
LOCATION:Carrefour de la Communication\, Place du 11 Novembre\, 39000 Lons-le-Saunier\, France
SUMMARY:20 ans de Rudologia : Journée anniversaire
DESCRIPTION:20 ans de Rudologia : Journée anniversaire
DTSTART:20220913T090000
DTEND:20220913T170000
URL;VALUE=URI:https://energy-cities.eu/fr/evenement/20-ans-de-rudologia-￼￼-journee-anniversaire/
DTSTAMP:now
UID:65976fe2ccc23
END:VEVENT
END:VCALENDAR