BEGIN:VCALENDAR
VERSION:2.0
PRODID:-//hacksw/handcal//NONSGML v1.0//EN
CALSCALE:GREGORIAN
BEGIN:VEVENT
LOCATION:Central Sweden European office\, 6th floor\, Rue de Luxembourg 3\, 1000 Brussels
SUMMARY:Tamarinden &#8211\; Where people meet and the buildings share energy
DESCRIPTION:Tamarinden &#8211\; Where people meet and the buildings share energy
DTSTART:20191008T010000
DTEND:20191008T140000
URL;VALUE=URI:https://energy-cities.eu/event/tamarinden-where-people-meet-and-the-buildings-share-energy/
DTSTAMP:now
UID:6597639815f1e
END:VEVENT
END:VCALENDAR