BEGIN:VCALENDAR
VERSION:2.0
PRODID:-//hacksw/handcal//NONSGML v1.0//EN
CALSCALE:GREGORIAN
BEGIN:VEVENT
LOCATION:Centre Rabelais\, 27 Boulevard Sarrail\, 34000 Montpellier\, France
SUMMARY:Le monde au chevet d&rsquo\;une planète en métamorphose 1972•1992•2022 &#8211\; Retour sur 50 ans de Sommets de la terre
DESCRIPTION:Le monde au chevet d&rsquo\;une planète en métamorphose 1972•1992•2022 &#8211\; Retour sur 50 ans de Sommets de la terre
DTSTART:20220929T090000
DTEND:20220929T180000
URL;VALUE=URI:https://energy-cities.eu/fr/evenement/le-monde-au-chevet-dune-planete-en-metamorphose-197219922022-retour-sur-50-ans-de-sommets-de-la-terre/
DTSTAMP:now
UID:65976baa5d2f1
END:VEVENT
END:VCALENDAR