BEGIN:VCALENDAR
VERSION:2.0
PRODID:-//hacksw/handcal//NONSGML v1.0//EN
CALSCALE:GREGORIAN
BEGIN:VEVENT
LOCATION:Centre del Carme\, Carrer del Museu\, Valencia\, Spain
SUMMARY:TOMORROW Final Conference
DESCRIPTION:TOMORROW Final Conference
DTSTART:20221026T150000
DTEND:20221026T180000
URL;VALUE=URI:https://energy-cities.eu/event/tomorrow-final-conference/
DTSTAMP:now
UID:659765c0e573f
END:VEVENT
END:VCALENDAR