BEGIN:VCALENDAR
VERSION:2.0
PRODID:-//hacksw/handcal//NONSGML v1.0//EN
CALSCALE:GREGORIAN
BEGIN:VEVENT
LOCATION:Charleroi\, Belgium
SUMMARY:La transition énergétique locale en 3D : Décentraliser\, Désinvestir\, Démocratiser
DESCRIPTION:La transition énergétique locale en 3D : Décentraliser\, Désinvestir\, Démocratiser
DTSTART:20200220T180000
DTEND:20200220T210000
URL;VALUE=URI:https://energy-cities.eu/fr/evenement/la-transition-energetique-locale-en-3d-decentraliser-desinvestir-democratiser/
DTSTAMP:now
UID:659765d2d7e93
END:VEVENT
END:VCALENDAR