BEGIN:VCALENDAR
VERSION:2.0
PRODID:-//hacksw/handcal//NONSGML v1.0//EN
CALSCALE:GREGORIAN
BEGIN:VEVENT
LOCATION:Charleroi\, Belgium
SUMMARY:The 3D local energy transition : Devolution\, Divest\, Democratise
DESCRIPTION:The 3D local energy transition : Devolution\, Divest\, Democratise
DTSTART:20200220T180000
DTEND:20200220T210000
URL;VALUE=URI:https://energy-cities.eu/event/la-transition-energetique-locale-en-3d-decentraliser-desinvestir-democratiser/
DTSTAMP:now
UID:659771425ecd2
END:VEVENT
END:VCALENDAR