BEGIN:VCALENDAR
VERSION:2.0
PRODID:-//hacksw/handcal//NONSGML v1.0//EN
CALSCALE:GREGORIAN
BEGIN:VEVENT
LOCATION:Clermont-Ferrand\, France
SUMMARY:La conférence du lancement de L’Observatoire de la Post-Croissance et de la Décroissance (OPCD)
DESCRIPTION:La conférence du lancement de L’Observatoire de la Post-Croissance et de la Décroissance (OPCD)
DTSTART:20220401T000000
DTEND:20220402T000000
URL;VALUE=URI:https://energy-cities.eu/fr/evenement/la-conference-du-lancement-de-lobservatoire-de-la-post-croissance-et-de-la-decroissance-opcd/
DTSTAMP:now
UID:6597772cda51e
END:VEVENT
END:VCALENDAR