BEGIN:VCALENDAR
VERSION:2.0
PRODID:-//hacksw/handcal//NONSGML v1.0//EN
CALSCALE:GREGORIAN
BEGIN:VEVENT
LOCATION:Dijon\, France
SUMMARY:Les journées de l&rsquo\;économie autrement
DESCRIPTION:Les journées de l&rsquo\;économie autrement
DTSTART:20231125T000000
DTEND:20231126T000000
URL;VALUE=URI:https://energy-cities.eu/fr/evenement/les-journees-de-leconomie-autrement-2/
DTSTAMP:now
UID:659767939b36f
END:VEVENT
END:VCALENDAR