BEGIN:VCALENDAR
VERSION:2.0
PRODID:-//hacksw/handcal//NONSGML v1.0//EN
CALSCALE:GREGORIAN
BEGIN:VEVENT
LOCATION:Dublin\, Ireland
SUMMARY:14th Citizens’ Energy Forum
DESCRIPTION:14th Citizens’ Energy Forum
DTSTART:20221124T100000
DTEND:20221124T053000
URL;VALUE=URI:https://energy-cities.eu/event/14th-citizens-energy-forum￼/
DTSTAMP:now
UID:659776bca5015
END:VEVENT
END:VCALENDAR