BEGIN:VCALENDAR
VERSION:2.0
PRODID:-//hacksw/handcal//NONSGML v1.0//EN
CALSCALE:GREGORIAN
BEGIN:VEVENT
LOCATION:Dublin\, Ireland
SUMMARY:ACR  Conference &#038\; General Assembly
DESCRIPTION:ACR  Conference &#038\; General Assembly
DTSTART:20230531T000000
DTEND:20230601T000000
URL;VALUE=URI:https://energy-cities.eu/event/acr-conference-general-assembly/
DTSTAMP:now
UID:65976d173f113
END:VEVENT
END:VCALENDAR