BEGIN:VCALENDAR
VERSION:2.0
PRODID:-//hacksw/handcal//NONSGML v1.0//EN
CALSCALE:GREGORIAN
BEGIN:VEVENT
LOCATION:Dublin\, Ireland
SUMMARY:The 11th Citizens Energy Forum
DESCRIPTION:The 11th Citizens Energy Forum
DTSTART:20190912T000000
DTEND:20190912T000000
URL;VALUE=URI:https://energy-cities.eu/fr/evenement/the-11th-citizens-energy-forum/
DTSTAMP:now
UID:659767df63810
END:VEVENT
END:VCALENDAR