BEGIN:VCALENDAR
VERSION:2.0
PRODID:-//hacksw/handcal//NONSGML v1.0//EN
CALSCALE:GREGORIAN
BEGIN:VEVENT
LOCATION:Dublin\, Irlande
SUMMARY:15th Citizens&#8217\; Energy Forum
DESCRIPTION:15th Citizens&#8217\; Energy Forum
DTSTART:20231109T090000
DTEND:20231109T180000
URL;VALUE=URI:https://energy-cities.eu/event/15th-citizens-energy-forum/
DTSTAMP:now
UID:65976fa273ac6
END:VEVENT
END:VCALENDAR