BEGIN:VCALENDAR
VERSION:2.0
PRODID:-//hacksw/handcal//NONSGML v1.0//EN
CALSCALE:GREGORIAN
BEGIN:VEVENT
LOCATION:Dublin\, Irlande
SUMMARY:Final conference of the Energy Communities Repository
DESCRIPTION:Final conference of the Energy Communities Repository
DTSTART:20231110T090000
DTEND:20231110T180000
URL;VALUE=URI:https://energy-cities.eu/event/closing-conference-of-the-energy-communities-repository/
DTSTAMP:now
UID:6597633c19066
END:VEVENT
END:VCALENDAR