BEGIN:VCALENDAR
VERSION:2.0
PRODID:-//hacksw/handcal//NONSGML v1.0//EN
CALSCALE:GREGORIAN
BEGIN:VEVENT
LOCATION:Ethno Village Čardaci\, Vitez\, Bosnia and Herzegovina
SUMMARY:17th International Summer School: Clean energy &#8211\; Solution for climate changes (South-East Europe focus)
DESCRIPTION:17th International Summer School: Clean energy &#8211\; Solution for climate changes (South-East Europe focus)
DTSTART:20220821T080000
DTEND:20220831T170000
URL;VALUE=URI:https://energy-cities.eu/event/clean-energy-solution-for-climate-changes-xvii-international-summer-school/
DTSTAMP:now
UID:65976a2331dd4
END:VEVENT
END:VCALENDAR