BEGIN:VCALENDAR
VERSION:2.0
PRODID:-//hacksw/handcal//NONSGML v1.0//EN
CALSCALE:GREGORIAN
BEGIN:VEVENT
LOCATION:European Committee of the Regions\, Rue Belliard\, Brussels\, Belgium
SUMMARY:Green Deal 2.0: a renewed governance for the Green Deal
DESCRIPTION:Green Deal 2.0: a renewed governance for the Green Deal
DTSTART:20230608T100000
DTEND:20230608T130000
URL;VALUE=URI:https://energy-cities.eu/event/green-deal-2-0-a-renewed-governance-for-the-green-deal/
DTSTAMP:now
UID:65976b31722f4
END:VEVENT
END:VCALENDAR