BEGIN:VCALENDAR
VERSION:2.0
PRODID:-//hacksw/handcal//NONSGML v1.0//EN
CALSCALE:GREGORIAN
BEGIN:VEVENT
LOCATION:European Parliament\, Rue Wiertz 60\, 1047 Brussels\, Belgium
SUMMARY:Energy price crisis – Practical solutions to energy poverty &#8211\; European Parliament
DESCRIPTION:Energy price crisis – Practical solutions to energy poverty &#8211\; European Parliament
DTSTART:20220928T140000
DTEND:20220928T170000
URL;VALUE=URI:https://energy-cities.eu/event/energy-price-crisis-practical-solutions-to-energy-poverty-european-parliament/
DTSTAMP:now
UID:659766775e957
END:VEVENT
END:VCALENDAR