BEGIN:VCALENDAR
VERSION:2.0
PRODID:-//hacksw/handcal//NONSGML v1.0//EN
CALSCALE:GREGORIAN
BEGIN:VEVENT
LOCATION:Faro\, Portugal
SUMMARY:Living Streets Final Workshop
DESCRIPTION:Living Streets Final Workshop
DTSTART:20211126T090000
DTEND:20211126T193000
URL;VALUE=URI:https://energy-cities.eu/event/living-streets-workshop/
DTSTAMP:now
UID:659771d4e0338
END:VEVENT
END:VCALENDAR