BEGIN:VCALENDAR
VERSION:2.0
PRODID:-//hacksw/handcal//NONSGML v1.0//EN
CALSCALE:GREGORIAN
BEGIN:VEVENT
LOCATION:Frankfurt am Main\, Germany
SUMMARY:Enlit Europe 2022
DESCRIPTION:Enlit Europe 2022
DTSTART:20221129T000000
DTEND:20221201T000000
URL;VALUE=URI:https://energy-cities.eu/event/enlit-europe-2022/
DTSTAMP:now
UID:6597762a28241
END:VEVENT
END:VCALENDAR