BEGIN:VCALENDAR
VERSION:2.0
PRODID:-//hacksw/handcal//NONSGML v1.0//EN
CALSCALE:GREGORIAN
BEGIN:VEVENT
LOCATION:Genève\, Switzerland
SUMMARY:Assises Européennes de la Transition Energétique
DESCRIPTION:Assises Européennes de la Transition Energétique
DTSTART:20220531T000000
DTEND:20220602T000000
URL;VALUE=URI:https://energy-cities.eu/fr/evenement/assises-europeennes-de-la-transition-energetique/
DTSTAMP:now
UID:6597648a692bc
END:VEVENT
END:VCALENDAR