BEGIN:VCALENDAR
VERSION:2.0
PRODID:-//hacksw/handcal//NONSGML v1.0//EN
CALSCALE:GREGORIAN
BEGIN:VEVENT
LOCATION:Genève\, Switzerland
SUMMARY:L&rsquo\;ingénierie de la conduite du changement systémique dans les territoires en transition
DESCRIPTION:L&rsquo\;ingénierie de la conduite du changement systémique dans les territoires en transition
DTSTART:20220601T140000
DTEND:20220601T151500
URL;VALUE=URI:https://energy-cities.eu/fr/evenement/lingenierie-de-la-conduite-du-changement-systemique-dans-les-territoires-en-transition/
DTSTAMP:now
UID:659770b96eb5e
END:VEVENT
END:VCALENDAR