BEGIN:VCALENDAR
VERSION:2.0
PRODID:-//hacksw/handcal//NONSGML v1.0//EN
CALSCALE:GREGORIAN
BEGIN:VEVENT
LOCATION:Geneva\, Switzerland
SUMMARY:Les entreprises locales de distribution d&rsquo\;électricité en Europe : outil de la transition pour les citoyens et les collectivités
DESCRIPTION:Les entreprises locales de distribution d&rsquo\;électricité en Europe : outil de la transition pour les citoyens et les collectivités
DTSTART:20220531T140000
DTEND:20220531T151500
URL;VALUE=URI:https://energy-cities.eu/fr/evenement/les-entreprises-locales-de-distribution-delectricite-en-europe-outil-de-la-transition-pour-les-citoyens-et-les-collectivites/
DTSTAMP:now
UID:65976f10f2fd7
END:VEVENT
END:VCALENDAR