BEGIN:VCALENDAR
VERSION:2.0
PRODID:-//hacksw/handcal//NONSGML v1.0//EN
CALSCALE:GREGORIAN
BEGIN:VEVENT
LOCATION:Genk\, Belgium
SUMMARY:Leading the Transition to Positive Energy Neighbourhoods
DESCRIPTION:Leading the Transition to Positive Energy Neighbourhoods
DTSTART:20211020T120000
DTEND:20211020T170000
URL;VALUE=URI:https://energy-cities.eu/event/leading-the-transition-to-positive-energy-neighbourhoods/
DTSTAMP:now
UID:6597763a2134e
END:VEVENT
END:VCALENDAR