BEGIN:VCALENDAR
VERSION:2.0
PRODID:-//hacksw/handcal//NONSGML v1.0//EN
CALSCALE:GREGORIAN
BEGIN:VEVENT
LOCATION:Gran Via Venue\, Barcelona\, Spain
SUMMARY:Smart City Expo World Congress &#8211\; Cities made of dreams
DESCRIPTION:Smart City Expo World Congress &#8211\; Cities made of dreams
DTSTART:20191119T000000
DTEND:20191121T000000
URL;VALUE=URI:https://energy-cities.eu/event/smart-city-expo-world-congress-cities-made-of-dreams/
DTSTAMP:now
UID:659771f0cafd6
END:VEVENT
END:VCALENDAR