BEGIN:VCALENDAR
VERSION:2.0
PRODID:-//hacksw/handcal//NONSGML v1.0//EN
CALSCALE:GREGORIAN
BEGIN:VEVENT
LOCATION:Gran Via Venue\, Barcelona\, Spain
SUMMARY:Smart City Expo World Congress – Cities made of dreams
DESCRIPTION:Smart City Expo World Congress – Cities made of dreams
DTSTART:20191119T000000
DTEND:20191121T000000
URL;VALUE=URI:https://energy-cities.eu/fr/evenement/smart-city-expo-world-congress-cities-made-of-dreams-2/
DTSTAMP:now
UID:65976b5ab0d4d
END:VEVENT
END:VCALENDAR