BEGIN:VCALENDAR
VERSION:2.0
PRODID:-//hacksw/handcal//NONSGML v1.0//EN
CALSCALE:GREGORIAN
BEGIN:VEVENT
LOCATION:Grenoble\, France
SUMMARY:48h du climat
DESCRIPTION:48h du climat
DTSTART:20220321T000000
DTEND:20220322T000000
URL;VALUE=URI:https://energy-cities.eu/fr/evenement/48h-du-climat/
DTSTAMP:now
UID:65976d33b478c
END:VEVENT
END:VCALENDAR