BEGIN:VCALENDAR
VERSION:2.0
PRODID:-//hacksw/handcal//NONSGML v1.0//EN
CALSCALE:GREGORIAN
BEGIN:VEVENT
LOCATION:Grenoble\, France
SUMMARY:Biennale des villes en transition
DESCRIPTION:Biennale des villes en transition
DTSTART:20230608T000000
DTEND:20230611T000000
URL;VALUE=URI:https://energy-cities.eu/fr/evenement/biennale-des-villes-en-transition/
DTSTAMP:now
UID:659765289edec
END:VEVENT
END:VCALENDAR