BEGIN:VCALENDAR
VERSION:2.0
PRODID:-//hacksw/handcal//NONSGML v1.0//EN
CALSCALE:GREGORIAN
BEGIN:VEVENT
LOCATION:Grenoble\, France
SUMMARY:La transition  énergétique\, un défi pour tous!
DESCRIPTION:La transition  énergétique\, un défi pour tous!
DTSTART:20220329T000000
DTEND:20220329T000000
URL;VALUE=URI:https://energy-cities.eu/fr/evenement/la-transition-energetique-un-defi-pour-tous/
DTSTAMP:now
UID:65976c9614f39
END:VEVENT
END:VCALENDAR