BEGIN:VCALENDAR
VERSION:2.0
PRODID:-//hacksw/handcal//NONSGML v1.0//EN
CALSCALE:GREGORIAN
BEGIN:VEVENT
LOCATION:Grenoble\, France
SUMMARY:Les 48 heures de la gestion durable des ressources : produire et consommer autrement 
DESCRIPTION:Les 48 heures de la gestion durable des ressources : produire et consommer autrement 
DTSTART:20220530T000000
DTEND:20220531T000000
URL;VALUE=URI:https://energy-cities.eu/fr/evenement/the-48-hours-of-sustainable-resource-management-producing-and-consuming-differently/
DTSTAMP:now
UID:65976eff82c06
END:VEVENT
END:VCALENDAR