BEGIN:VCALENDAR
VERSION:2.0
PRODID:-//hacksw/handcal//NONSGML v1.0//EN
CALSCALE:GREGORIAN
BEGIN:VEVENT
LOCATION:Grenoble\, France
SUMMARY:Les 48 heures de la transition inclusive
DESCRIPTION:Les 48 heures de la transition inclusive
DTSTART:20221207T000000
DTEND:20221208T000000
URL;VALUE=URI:https://energy-cities.eu/fr/evenement/les-48-heures-de-la-transition-inclusive/
DTSTAMP:now
UID:65976ddfafa40
END:VEVENT
END:VCALENDAR