BEGIN:VCALENDAR
VERSION:2.0
PRODID:-//hacksw/handcal//NONSGML v1.0//EN
CALSCALE:GREGORIAN
BEGIN:VEVENT
LOCATION:Grenoble\, France
SUMMARY:Les 48h des nouvelles proximités urbaines
DESCRIPTION:Les 48h des nouvelles proximités urbaines
DTSTART:20220914T000000
DTEND:20220915T000000
URL;VALUE=URI:https://energy-cities.eu/fr/evenement/les-48h-des-nouvelles-proximites-urbaines/
DTSTAMP:now
UID:65976e0d1976c
END:VEVENT
END:VCALENDAR