BEGIN:VCALENDAR
VERSION:2.0
PRODID:-//hacksw/handcal//NONSGML v1.0//EN
CALSCALE:GREGORIAN
BEGIN:VEVENT
LOCATION:Grenoble\, France
SUMMARY:The 48 hours of inclusive transition
DESCRIPTION:The 48 hours of inclusive transition
DTSTART:20221207T000000
DTEND:20221208T000000
URL;VALUE=URI:https://energy-cities.eu/event/the-48-hours-of-inclusive-transition/
DTSTAMP:now
UID:659764c91acf0
END:VEVENT
END:VCALENDAR