BEGIN:VCALENDAR
VERSION:2.0
PRODID:-//hacksw/handcal//NONSGML v1.0//EN
CALSCALE:GREGORIAN
BEGIN:VEVENT
LOCATION:Grenoble\, France
SUMMARY:The 48 hours of sustainable resource management: producing and consuming differently
DESCRIPTION:The 48 hours of sustainable resource management: producing and consuming differently
DTSTART:20220530T000000
DTEND:20220531T000000
URL;VALUE=URI:https://energy-cities.eu/event/the-48-hours-of-sustainable-resource-management-producing-and-consuming-differently/
DTSTAMP:now
UID:65976fc4c2519
END:VEVENT
END:VCALENDAR