BEGIN:VCALENDAR
VERSION:2.0
PRODID:-//hacksw/handcal//NONSGML v1.0//EN
CALSCALE:GREGORIAN
BEGIN:VEVENT
LOCATION:Grenoble\, France
SUMMARY:The 48h of the New urban proximities
DESCRIPTION:The 48h of the New urban proximities
DTSTART:20220914T090000
DTEND:20220915T170000
URL;VALUE=URI:https://energy-cities.eu/event/the-48h-of-the-new-urban-proximities/
DTSTAMP:now
UID:65976b50482d6
END:VEVENT
END:VCALENDAR